Workbook

Sheet 산출 계산기
C10: No | D10: 선택 조건 | E10: 적용 조건
C11: 고정 | D11: 기준 업무량 | E11: 별도의 평가 절차 생략이 없는 사업 기준 (필요 시 세부 산출식 Sheet에서 개별 업무 선택)
C15: 1 | D15: 사업 유형 선택
C17: 2 | D17: 시스템 유형 선택
C19: 3 | D19: 시스템 개수 선택
C21: 4 | D21: 평가 사업 경험 선택
C25: 사업 대가 산정 결과 (VAT 제외)
C26: ='세부 산출식'!D54 -> #N/A
C28: 부가세 VAT 10% 산정
C29: =C26*0.1 -> #N/A
C31: 최종 대가 산정 결과 (VAT 10% 포함)
C32: =C26+C29 -> #N/A
C36: 직접 경비 필요시 합산

Sheet 세부 산출식
B1: 개인정보 영향평가 사업비 산정 - 컨설팅 업무량에 의한 방식 | J1: O | K1: X
J2: 구축시스템 | K2: 1
B3: ○ 개인정보 영향평가 평가 절차별 업무량 | J3: 운용시스템 | K3: 1.2
B4: 대상 업무 | J4: 변경시스템(개인정보처리 변동 없을 시) | K4: 0.8
B5: 단계 | C5: 활동 | D5: 업무량 | F5: 업무 선택 | G5: 변환 값 | J5: 변경시스템(개인정보처리 흐름 추가 시) | K5: 1
B6: 평가 수행 계획 수립 | C6: 평가수행 계획 수립 | D6: 0.4 | F6: O | G6: =(IF(F6="O",1,0))*D6 -> 0.4 | J6: 단일 개인정보 처리 시스템 1 | K6: 0.8
C7: 평가팀 구성 | D7: 0.2 | F7: O | G7: =(IF(F7="O",1,0))*D7 -> 0.2 | J7: 단일 개인정보 처리 시스템 2 | K7: 1
B8: 평가 자료 수집 | C8: 내부자료 분석 | D8: 0.4 | F8: O | G8: =(IF(F8="O",1,0))*D8 -> 0.4 | J8: 단일 개인정보 처리 시스템 3 | K8: 1.2
C9: 외부자료 분석 | D9: 0.4 | F9: O | G9: =(IF(F9="O",1,0))*D9 -> 0.4 | J9: 복합 개인정보 처리 시스템 1 | K9: 1.4
C10: 대상시스템 관련자료 분석 | D10: 0.6 | F10: O | G10: =(IF(F10="O",1,0))*D10 -> 0.6 | J10: 복합 개인정보 처리 시스템 2 | K10: 1.6
B11: 개인정보 흐름 분석 | C11: 개인정보 처리업무 현황분석 | D11: 0.8 | F11: O | G11: =(IF(F11="O",1,0))*D11 -> 0.8 | J11: 복합 개인정보 처리 시스템 3 | K11: 1.8
C12: 개인정보 흐름표 작성 | D12: 0.6 | F12: O | G12: =(IF(F12="O",1,0))*D12 -> 0.6
C13: 개인정보 흐름도 작성 | D13: 0.8 | F13: O | G13: =(IF(F13="O",1,0))*D13 -> 0.8 | J13: 단일시스템 | K13: 1 | L13: 1
C14: 시스템 구조도 작성 | D14: 0.4 | F14: O | G14: =(IF(F14="O",1,0))*D14 -> 0.4 | J14: 복수시스템 2개 | K14: 2 | M14: =K14*0.7 -> 1.4
B15: 개인정보 침해요인 분석 | C15: 평가항목 작성 | D15: 0.8 | F15: O | G15: =(IF(F15="O",1,0))*D15 -> 0.8 | J15: 복수시스템 3개 | K15: 3 | M15: =K15*0.7 -> 2.1
C16: 개인정보보호조치 현황파악 | D16: 1.2 | F16: O | G16: =(IF(F16="O",1,0))*D16 -> 1.2 | J16: 복수시스템 4개 | K16: 4 | M16: =K16*0.7 -> 2.8
C17: 개인정보 침해요인 도출 | D17: 0.6 | F17: O | G17: =(IF(F17="O",1,0))*D17 -> 0.6 | J17: 복수시스템 5개 | K17: 5 | M17: =K17*0.7 -> 3.5
C18: 개인정보 위험도 산정 | D18: 0.4 | F18: O | G18: =(IF(F18="O",1,0))*D18 -> 0.4 | J18: 복수시스템 6개 | K18: 6 | M18: =K18*0.7 -> 4.2
B19: 개선 계획 수립 | C19: 개선사항 도출 | D19: 0.4 | F19: O | G19: =(IF(F19="O",1,0))*D19 -> 0.4 | J19: 복수시스템 7개 | K19: 7 | M19: =K19*0.7 -> 4.9
C20: 개선계획 수립 | D20: 0.6 | F20: O | G20: =(IF(F20="O",1,0))*D20 -> 0.6 | J20: 복수시스템 8개 | K20: 8 | M20: =K20*0.7 -> 5.6
B21: 영향평가서 작성 | C21: 영향평가서 작성 | D21: 0.8 | F21: O | G21: =(IF(F21="O",1,0))*D21 -> 0.8 | J21: 복수시스템 9개 | K21: 9 | M21: =K21*0.7 -> 6.3
C22: 영향평가서 제출 | D22: 0.4 | F22: O | G22: =(IF(F22="O",1,0))*D22 -> 0.4 | J22: 복수시스템 10개 | K22: 10 | M22: =K22*0.7 -> 7
B23: 이행점검 | C23: 이행점검 수행 | D23: 0.2 | F23: O | G23: =(IF(F23="O",1,0))*D23 -> 0.2
B24: 합계 | D24: =SUM(D6:D23) -> 10 | G24: =SUM(G6:G23) -> 10 | J24: 평가 경험 없음 | K24: 0.8
B25: 총 업무량 산출 | G25: =G24 -> 10 | J25: 발주기관 평가 이후 1년 이내 경과 | K25: 0.8
J26: 동일 시스템의 평가 이후 1년 이내 경과 | K26: 0.7
F27: 사업 유형별 난이도 값 | J27: 마지막 평가 이후 1년 초과 경과 | K27: 1
B29: (선택 1) 사업 유형 선택 | D29: ='산출 계산기'!E15 -> 0 | F29: =VLOOKUP(D29,$J$2:$K$5,2,FALSE) -> #N/A | J29: 특정 과업 생략 없는 사업 | K29: 10
B32: (선택 2) 시스템 유형 선택 | C32: 단일 처리 시스템 또는 복합 처리 시스템 中 택 1 | D32: ='산출 계산기'!E17 -> 0 | E32: =VLOOKUP(D32,J6:K11,2,FALSE) -> #N/A
B34: (선택 3) 시스템 개수 | C34: 단일 시스템 또는 복수 시스템 中 택1 | E34: ='산출 계산기'!E19 -> 0 | G34: =IF(E34="단일시스템",1,(VLOOKUP(E34,$J$13:$K$22,2,FALSE)*0.7)) -> #N/A | J34: ='산출 계산기'!E19 -> 0
B38: (선택 4) 경험 여부 | C38: 사업 발주 기관의 경험 또는 대상 시스템의 평가 경험 여부에 따른 난이도 구분 | E38: ='산출 계산기'!E21 -> 0 | G38: =VLOOKUP(E38,$J$24:$K$27,2,FALSE) -> #N/A
B41: 컨설팅 업무 단가 | D41: 정보보호 컨설턴트 평균임금 | E41: 7220158
B44: ○ 직접경비
B45: 구분 | D45: 산출내역 | F45: 합계
B46: ○ 직접경비1
B47: ○ 직접경비2
B48: ○ 직접경비3
B49: 직접 경비 합 | F49: =SUM(F46:F48) -> 0
B50: ○ 최종합계
B51: 구분 | D51: 산출내역 | F51: 금액
...

Sheet 설명
C8: 사업 유형 선택 | D8: 구축 시스템 | E8: 새롭게 개발하기 위해 설계 중인 시스템
D9: 운영 시스템 | E9: 구축이 완료되어 현재 운용 중인 시스템
D10: 변경 시스템(개인정보 처리 흐름 변화 추가 시) | E10: 개인정보 처리 흐름의 변화 유무에 따른 난이도 변경(변화 있음)
D11: 변경 시스템(개인정보 처리 흐름 변화 없을 시) | E11: 개인정보 처리 흐름의 변화 유무에 따른 난이도 변경(변화 없음)
C12: 시스템 유형 선택 | D12: 단일 개인정보 처리시스템I | E12: <단일 개인정보 처리 시스템 + 특정 부서 제한 취급> 1. 수집된 개인정보가 수정 또는 변경되지 않고 처음 수집된 내용과 양식 그대로 해당 단위업무시스템 내에서만 관리되는 경우 ex) 누리집 로그인 서비스, 단순 민원 접수를 위한 개인정보 확인 시스템 등 2. 수집된 개인정보가 단일개인정보처리시스템을 활용해 기관 내 특정 단위 부서에서만 취급되는 경우 ex) 별도 시스템을 활용하여 경영지원 부서 내에서만 개인정보를 취급하는 경우
D13: 단일 개인정보 처리시스템 II | E13: <단일 개인정보 처리 시스템 + 2개 이하의 내부 응용 시스템> 1. 기관 내 2개 이상의 일부 부서에서 개별 업무를 위해 개인정보를 취급하고 있으나 기관 내 다른 단일 시스템으로의 전송이나 다른 시스템으로부터의 접근 없이 해당 시스템 내에서만 처리될 경우 ex) 하나의 개인정보처리시스템을 활용하여 경영지원 부서, 홍보 부서 등에서 활용하는 경우 2. 개인정보처리 및 관리를 위한 단일개인정보처리시스템에 기관 내부에서 운영‧관리하는 1개 또는 2개의 응용 시스템이 연동되어 개인정보를 활용하는 경우 (다만, 응용 시스템은 기관 내부에서 운용하는 시스템으로서 단위업무시스템에 연동되어 개인정보를 조회할 뿐 처리, 관리할 수 없는 경우에 한함) ex) 시설 출입자 관리시스템, CCTV 관리 시스템, 주차 관리 시스템, 내부 시설 대관 신청 시스템, 단순 기관 누리집 등
D14: 단일 개인정보 처리시스템 III | E14: <단일 개인정보 처리 시스템 + 3개 이상의 내부 응용 시스템> 1. 해당 기관에 소속된 대부분의 내부 부서가 개인정보취급 부서로서 해당 단위업무시스템을 통해 개인정보를 활용하여 업무를 수행하는 경우 2. 개인정보 처리를 위한 단위업무시스템에 3개 이상의 내부 응용 시스템이 연동되어 개인정보를 활용하는 경우 (다만, 응용 시스템은 기관 내부에서 운용하는 시스템으로서 단위업무시스템에 연동되어 개인정보를 조회할 뿐 처리, 관리할 수 없는 경우에 한함) ex) 기관의 유관 산업 및 기술 정보 제공 포털 사이트(단순 회원가입 有)
D15: 복합 개인정보 처리시스템I | E15: <2개 이상의 단일 개인정보 처리 시스템 + 내부 처리> 1. 기관 내부에서 운용하는 2개 이상의 서로 다른 단일개인정보처리시스템이 결합된 복합개인정보처리시스템으로 기관 내 다수의 부서에서 다양한 업무에 개인정보를 취급‧관리하지만, 외부 응용 시스템과 연동되지 않고 내부 업무만을 위해 운용되는 시스템인 경우 ex) 통합 출입 통제 관리 시스템(출입구, 출퇴근, CCTV, 주차 등 통합 관리)
D16: 복합 개인정보 처리시스템 II | E16: <2개 이상의 단일 개인정보 처리 시스템 + 2개 이하의 외부 기관 응용 시스템과의 연계> 1기관 내부에서 운용하는 2개 이상의 서로 다른 단위업무시스템이 결합된 통합정보시스템으로 대상 기관 내 다수의 부서에서 다양한 업무에 개인정보를 활용할 뿐 아니라 2개 이하의 외부기관(파트너, 협력업체, 상위 기관 등)의 응용 시스템과 연동되어 개인정보의 처리 및 관리가 가능한 시스템인 경우 ex) 지방세 납부 관리 시스템, 개방 시설 및 공공 장비 이용 등록 시스템, 공공 사업 입찰 관리 시스템, 대규모 유관 산업 및 기술 관련 포털 사이트(회원 기업 개별 정보 수록)
D17: 복합 개인정보 처리시스템 III | E17: <2개 이상의 단일 개인정보 처리 시스템 + 3개 이상의 외부 기관 응용 시스템과의 연계> 1. 기관 내‧외부에서 운용하는 3개 이상의 서로 다른 단위업무시스템이 결합된 통합정보시스템으로 해당 기관의 내부 업무를 위한 응용 시스템과 더불어 3개 이상의 외부기관 응용시스템과 연동되어 모든 구성원이 상시 개인정보를 취급‧관리‧활용하기 위해 구축된 시스템 ex) 대학교 학사행정시스템, 내부 그룹웨어 및 ERP 시스템(인사, 회계, 근태, 시설장비 관리 등 종합적으로 업무가 연동된 시스템) 2. 2개 이상의 서로 다른 기관이 외부 상용 네트워크와 연동되지 않고 내부적(폐쇄망)으로만 연동되어 각 기관들의 모든 내부 구성원이 하나의 통합정보시스템을 활용하여 상시 개인정보를 취급‧관리‧활용하기 위해 구축된 시스템 ex) 온 나라 시스템, 통합 재정 정보 관리시스템, e나라재산 등
C18: 평가 사업 경험 선택 | D18: 발주기관 평가 이후 1년 이내 경과 | E18: 발주 대상 시스템과 관계없이 발주 기관의 마지막 평가 이후 1년 이내 경과
D19: 동일 시스템의 평가 이후 1년 이내 경과 | E19: 평가 대상 시스템에 대한 타 기관 또는 발주 기관의 마지막 평가 이후 1년 이내 경과
D20: 마지막 평가 이후 1년 초과 경과 | E20: 평가 기관 또는 평가 대상 시스템에 대한 마지막 평가 이후 1년 초과 경과
D21: 경험없음 | E21: 평가 대상 시스템에 대한 평가 관련 정보가 확인되지 않거나 발주 기관 및 대상 시스템에 대한 평가 경험이 없는 경우
