Workbook

Sheet 산출 계산기
C10: No | D10: 선택 조건 | E10: 적용 조건
C11: 고정 | D11: 전체 공수량 | E11: 별도의 평가 절차 생략이 없는 사업 기준 (변경 시스템으로서 일부 절차가 생략될 경우 세부 산출식 Sheet 에서 개별 업무에 따른 공수 선택)
C15: 1 | D15: 사업 유형 선택 | E15: 구축시스템
C17: 2 | D17: 제경비율 | E17: 1.4
C19: 3 | D19: 기술료율 | E19: 0.2
C21: 4 | D21: 소요 개월 수 | E21: 1개월
C25: 사업 대가 산정 결과 (VAT 제외)
C26: =투입공수방식!D51 -> 51985138
C28: 부가세 VAT 10% 산정
C29: =C26*0.1 -> 5198513.8
C31: 최종 대가 산정 결과 (VAT 10% 포함)
C32: =C26+C29 -> 57183651
C36: 직접 경비 필요시 합산

Sheet 투입공수방식
B1: 개인정보 영향평가 사업비 산정 - 투입공수에 의한 방식
J2: O | K2: X | M2: 1개월 | N2: 1
B3: ○ 개인정보 영향평가 평가 절차별 투입공수 | J3: 구축시스템 | K3: 2.5 | M3: 2개월 | N3: 2
B4: 대상 업무 | D4: 절차별 투입공수(M/D) | J4: 운용시스템 | K4: 3 | M4: 3개월 이상 | N4: 3
B5: 단계 | C5: 활동 | D5: 구축 시스템 | E5: 운용 시스템 | F5: 변경 시스템 (항목 선택) | G5: 변경 시스템 산출값 | J5: 변경시스템 | K5: =G25 -> 0
B6: 평가 수행 계획 수립 | C6: 평가수행 계획 수립 | D6: 2 | E6: 2 | G6: =(IF(F6="O",1,0))*E6 -> 0 | J6: 1.4 | K6: 0.2
C7: 평가팀 구성 | D7: 1 | E7: 1 | G7: =(IF(F7="O",1,0))*E7 -> 0 | J7: 1.45 | K7: 0.25
B8: 평가 자료 수집 | C8: 내부자료 분석 | D8: 2 | E8: 3 | G8: =(IF(F8="O",1,0))*E8 -> 0 | J8: 1.5 | K8: 0.3
C9: 외부자료 분석 | D9: 2 | E9: 2 | G9: =(IF(F9="O",1,0))*E9 -> 0 | K9: 0.35
C10: 대상시스템 관련자료 분석 | D10: 3 | E10: 3 | G10: =(IF(F10="O",1,0))*E10 -> 0 | K10: 0.4
B11: 개인정보 흐름 분석 | C11: 개인정보 처리업무 현황분석 | D11: 4 | E11: 6 | G11: =(IF(F11="O",1,0))*E11 -> 0
C12: 개인정보 흐름표 작성 | D12: 3 | E12: 4 | G12: =(IF(F12="O",1,0))*E12 -> 0
C13: 개인정보 흐름도 작성 | D13: 4 | E13: 5 | G13: =(IF(F13="O",1,0))*E13 -> 0
C14: 시스템 구조도 작성 | D14: 2 | E14: 2 | G14: =(IF(F14="O",1,0))*E14 -> 0
B15: 개인정보 침해요인 분석 | C15: 평가항목 작성 | D15: 4 | E15: 5 | G15: =(IF(F15="O",1,0))*E15 -> 0
C16: 개인정보보호조치 현황파악 | D16: 6 | E16: 8 | G16: =(IF(F16="O",1,0))*E16 -> 0
C17: 개인정보 침해요인 도출 | D17: 3 | E17: 4 | G17: =(IF(F17="O",1,0))*E17 -> 0
C18: 개인정보 위험도 산정 | D18: 2 | E18: 2 | G18: =(IF(F18="O",1,0))*E18 -> 0
B19: 개선 계획 수립 | C19: 개선사항 도출 | D19: 2 | E19: 2 | G19: =(IF(F19="O",1,0))*E19 -> 0
C20: 개선계획 수립 | D20: 3 | E20: 3 | G20: =(IF(F20="O",1,0))*E20 -> 0
B21: 영향평가서 작성 | C21: 영향평가서 작성 | D21: 4 | E21: 5 | G21: =(IF(F21="O",1,0))*E21 -> 0
C22: 영향평가서 제출 | D22: 2 | E22: 2 | G22: =(IF(F22="O",1,0))*E22 -> 0
B23: 이행점검 | C23: 이행점검 수행 | D23: 1 | E23: 1 | G23: =(IF(F23="O",1,0))*E23 -> 0
B24: 합계 | D24: =SUM(D6:D23) -> 50 | E24: =SUM(E6:E23) -> 60 | G24: =SUM(G6:G23) -> 0
B25: M/M 환산 합계 (M=20D) | D25: =D24/20 -> 2.5 | E25: =E24/20 -> 3 | G25: =G24/20 -> 0
B26: (선택 1) 사업 유형 선택 | D26: ='산출 계산기'!E15 -> 구축시스템
B27: ○ 컨설턴트 직접인건비
B28: 구분 | D28: 평균 임금 | F28: 투입공수 (M/M) | G28: 직접인건비
B29: 개인정보 영향평가 | D29: 7220158 | F29: =VLOOKUP(D26,$J$3:$K$5,2,FALSE) -> 2.5 | G29: =D29*F29 -> 18050395
B31: ○ 제경비 | D31: (선택 2) 제경비율 | E31: ='산출 계산기'!E17 -> 1.4 | F31: =$G$29*E31 -> 25270553
B32: ○ 기술료 | D32: (선택 3) 기술료율 | E32: ='산출 계산기'!E19 -> 0.2 | F32: =($G$29+$F$31)*E32 -> 8664189.6
B33: 제경비율(직접인건비의 140 ~ 150%)
B34: 기술료율([직접인건비 + 제경비]의 20 ~ 40%)
B36: ○ 소요 개월 수 | E36: ='산출 계산기'!E21 -> 1개월 | F36: =VLOOKUP(E36,$M$2:$N$4,2,FALSE) -> 1
B39: ○ 직접경비
B40: 구분 | D40: 산출내역 | F40: 합계
B41: ○ 직접경비1
B42: ○ 직접경비2
B43: ○ 직접경비3
B44: 소 계 | F44: =SUM(F41:F43) -> 0
...

Sheet 설명
C8: 사업 유형 선택 | D8: 구축 시스템 | E8: 새롭게 개발하기 위해 설계 중인 시스템
D9: 운영 시스템 | E9: 구축이 완료되어 현재 운용 중인 시스템
D10: 변경 시스템(개인정보 처리 흐름 변화 추가 시) | E10: 개인정보 처리 흐름의 변화 유무에 따른 난이도 변경(변화 있음)
D11: 변경 시스템(개인정보 처리 흐름 변화 없을 시) | E11: 개인정보 처리 흐름의 변화 유무에 따른 난이도 변경(변화 없음)
C12: 제경비 및 기술료 | D12: 제경비율 | E12: 직접비(직접인건비와 직접경비)에 포함되지 아니하고 소프트웨어사업자의 행정운영을 위한 기획, 경영, 총무 분야 등에서 발생하는 간접 경비로서 임원 / 서무 / 경리직원 등의 급여, 사무실비, 사무용 소모품비, 비품비, 기계기구의 수선 및 상각비, 통신운반비, 회의비, 공과금, 운영활동 비용 등을 포함한다. 2022년 SW사업 대가산정 가이드(개정판) 제경비율 = 직접인건비의 140 ~ 150%
D13: 기술료율 | E13: 소프트웨어 사업자가 개발 / 보유한 기술의 사용 및 기술 축적을 위한 대가로서 조사연구비, 기술개발비, 기술훈련비 및 이윤 등을 포함한다. 2022년 SW사업 대가산정 가이드(개정판) 기술료율 = (직접인건비 + 제경비)의 20 ~ 40%
C14: 소요 개월 수 | D14: 1개월 | E14: 발주 대상 시스템과 관계없이 발주 기관의 마지막 평가 이후 1년 이내 경과
D15: 2개월 | E15: 평가 대상 시스템에 대한 타 기관 또는 발주 기관의 마지막 평가 이후 1년 이내 경과
D16: 3개월 이상 | E16: 평가 기관 또는 평가 대상 시스템에 대한 마지막 평가 이후 1년 초과 경과
